BEGIN:VCALENDAR
VERSION:2.0
PRODID:-//St Michael&#039;s Hospice - ECPv6.15.18//NONSGML v1.0//EN
CALSCALE:GREGORIAN
METHOD:PUBLISH
X-ORIGINAL-URL:https://stmichaelshospice.com
X-WR-CALDESC:Events for St Michael&#039;s Hospice
REFRESH-INTERVAL;VALUE=DURATION:PT1H
X-Robots-Tag:noindex
X-PUBLISHED-TTL:PT1H
BEGIN:VTIMEZONE
TZID:Europe/London
BEGIN:DAYLIGHT
TZOFFSETFROM:+0000
TZOFFSETTO:+0100
TZNAME:BST
DTSTART:20220327T010000
END:DAYLIGHT
BEGIN:STANDARD
TZOFFSETFROM:+0100
TZOFFSETTO:+0000
TZNAME:GMT
DTSTART:20221030T010000
END:STANDARD
BEGIN:DAYLIGHT
TZOFFSETFROM:+0000
TZOFFSETTO:+0100
TZNAME:BST
DTSTART:20230326T010000
END:DAYLIGHT
BEGIN:STANDARD
TZOFFSETFROM:+0100
TZOFFSETTO:+0000
TZNAME:GMT
DTSTART:20231029T010000
END:STANDARD
BEGIN:DAYLIGHT
TZOFFSETFROM:+0000
TZOFFSETTO:+0100
TZNAME:BST
DTSTART:20240331T010000
END:DAYLIGHT
BEGIN:STANDARD
TZOFFSETFROM:+0100
TZOFFSETTO:+0000
TZNAME:GMT
DTSTART:20241027T010000
END:STANDARD
BEGIN:DAYLIGHT
TZOFFSETFROM:+0000
TZOFFSETTO:+0100
TZNAME:BST
DTSTART:20250330T010000
END:DAYLIGHT
BEGIN:STANDARD
TZOFFSETFROM:+0100
TZOFFSETTO:+0000
TZNAME:GMT
DTSTART:20251026T010000
END:STANDARD
BEGIN:DAYLIGHT
TZOFFSETFROM:+0000
TZOFFSETTO:+0100
TZNAME:BST
DTSTART:20260329T010000
END:DAYLIGHT
BEGIN:STANDARD
TZOFFSETFROM:+0100
TZOFFSETTO:+0000
TZNAME:GMT
DTSTART:20261025T010000
END:STANDARD
BEGIN:DAYLIGHT
TZOFFSETFROM:+0000
TZOFFSETTO:+0100
TZNAME:BST
DTSTART:20270328T010000
END:DAYLIGHT
BEGIN:STANDARD
TZOFFSETFROM:+0100
TZOFFSETTO:+0000
TZNAME:GMT
DTSTART:20271031T010000
END:STANDARD
END:VTIMEZONE
BEGIN:VEVENT
DTSTART;TZID=Europe/London:20260425T100000
DTEND;TZID=Europe/London:20260425T120000
DTSTAMP:20260425T150932
CREATED:20241202T103911Z
LAST-MODIFIED:20250814T132115Z
UID:10001426-1777111200-1777118400@stmichaelshospice.com
SUMMARY:Saturday Social
DESCRIPTION:Please join us for a free social event offering tea\, coffee and cake as we get together to catch up with friends\, meet new people and share experiences. \nStay all morning or just drop in for a quick cuppa. \nOur Saturday Socials take place at the Arthur Easton Centre\, St Michael’s Hospice between 10am-12pm on the last Saturday of each month.
URL:https://stmichaelshospice.com/event/saturdaysocial-2-2/2026-04-25/
LOCATION:Arthur Easton Centre\, St Michael’s Hospice\, 25 Upper Maze Hill\, St Leonards on Sea\, East Sussex\, TN38 0LB\, United Kingdom
ATTACH;FMTTYPE=image/jpeg:https://stmichaelshospice.com/wp-content/uploads/2023/01/Saturday-Social.jpg
ORGANIZER;CN="St Michael's Hospice - Community Partnerships Team":MAILTO:commvolunteering@stmichaelshospice.com
END:VEVENT
BEGIN:VEVENT
DTSTART;TZID=Europe/London:20260416T100000
DTEND;TZID=Europe/London:20260416T120000
DTSTAMP:20260425T150932
CREATED:20260128T131300Z
LAST-MODIFIED:20260128T150817Z
UID:10002644-1776333600-1776340800@stmichaelshospice.com
SUMMARY:Free Will Information Session -  April
DESCRIPTION:Free Will Information Sessions \nWe host a number of free Will Making Seminars throughout the year\, welcoming local solicitors to share their expert knowledge on the subject\, covering topics that include: \nUnderstanding the Will-writing process. \n\nMaking your wishes clear.\nChecking your Will still reflects recent life changes.\nIncluding a gift to the Hospice while protecting your family.\n\nPlease see our upcoming events and book your place below: \nThursday 16th April\, 10:00am start – Book your free place now. \nHelen Churchward-Cardiff – Heringtons Solicitors
URL:https://stmichaelshospice.com/event/free_will_information_session_april/
LOCATION:Arthur Easton Centre\, St Michael’s Hospice\, 25 Upper Maze Hill\, St Leonards on Sea\, East Sussex\, TN38 0LB\, United Kingdom
ATTACH;FMTTYPE=image/jpeg:https://stmichaelshospice.com/wp-content/uploads/2026/01/Leave-a-gift-in-your-will-events.jpg
ORGANIZER;CN="St Michael's Hospice Fundraising Team":MAILTO:fundraising@stmichaelshospice.com
END:VEVENT
BEGIN:VEVENT
DTSTART;TZID=Europe/London:20260217T143000
DTEND;TZID=Europe/London:20260217T163000
DTSTAMP:20260425T150932
CREATED:20260128T130122Z
LAST-MODIFIED:20260128T150129Z
UID:10002643-1771338600-1771345800@stmichaelshospice.com
SUMMARY:Free Will Information Session
DESCRIPTION:Free Will Information Sessions \nWe host a number of free Will Making Seminars throughout the year\, welcoming local solicitors to share their expert knowledge on the subject\, covering topics that include: \nUnderstanding the Will-writing process. \n\nMaking your wishes clear.\nChecking your Will still reflects recent life changes.\nIncluding a gift to the Hospice while protecting your family.\n\nPlease book your place below: \nTuesday 17th February\, 2:30pm start – Book your free place now. \nAileen Francis – Partner\, Percy Walker Solicitors
URL:https://stmichaelshospice.com/event/free_will_information_session/
LOCATION:Arthur Easton Centre\, St Michael’s Hospice\, 25 Upper Maze Hill\, St Leonards on Sea\, East Sussex\, TN38 0LB\, United Kingdom
ATTACH;FMTTYPE=image/jpeg:https://stmichaelshospice.com/wp-content/uploads/2026/01/Leave-a-gift-in-your-will-events.jpg
ORGANIZER;CN="St Michael's Hospice Fundraising Team":MAILTO:fundraising@stmichaelshospice.com
END:VEVENT
BEGIN:VEVENT
DTSTART;TZID=Europe/London:20241123T140000
DTEND;TZID=Europe/London:20241123T160000
DTSTAMP:20260425T150932
CREATED:20240119T115144Z
LAST-MODIFIED:20240624T140802Z
UID:10000859-1732370400-1732377600@stmichaelshospice.com
SUMMARY:Death Cafe
DESCRIPTION:Join us for an afternoon of tea\, coffee\, cake and conversation. \nA Death Café is a social enterprise initiative that creates a forum where anyone can raise any issue around dying\, death and loss. The aim is to have a supportive\, kind\, open and honest conversation around this sometimes taboo topic. \nThe café is not led\, as such\, and is not a therapeutic group. Members of the Hospice’s Wellbeing team are there\, if needed\, to steer the conversation. Come along and see where the conversation takes you.\n \nDoors open at 2pm. For more information\, please contact our Spiritual Support team on 01424 445177.
URL:https://stmichaelshospice.com/event/death-cafe-3/2024-11-23/
LOCATION:Arthur Easton Centre\, St Michael’s Hospice\, 25 Upper Maze Hill\, St Leonards on Sea\, East Sussex\, TN38 0LB\, United Kingdom
ATTACH;FMTTYPE=image/jpeg:https://stmichaelshospice.com/wp-content/uploads/2023/07/Death-cafe-web-banner.jpg
ORGANIZER;CN="St Michael's Hospice":MAILTO:info@stmichaelshospice.com
END:VEVENT
BEGIN:VEVENT
DTSTART;TZID=Europe/London:20240608T153000
DTEND;TZID=Europe/London:20240608T170000
DTSTAMP:20260425T150932
CREATED:20240119T114855Z
LAST-MODIFIED:20240212T154451Z
UID:10000766-1717860600-1717866000@stmichaelshospice.com
SUMMARY:Death Cafe
DESCRIPTION:Join us for an afternoon of tea\, coffee\, cake and conversation. \nA Death Café is a social enterprise initiative that creates a forum where anyone can raise any issue around dying\, death and loss. The aim is to have a supportive\, kind\, open and honest conversation around this sometimes taboo topic. \nThe café is not led\, as such\, and is not a therapeutic group. Members of the Hospice’s Wellbeing team are there\, if needed\, to steer the conversation. Come along and see where the conversation takes you.\n \nDoors open at 2pm. For more information\, please contact our Spiritual Support team on 01424 445177.
URL:https://stmichaelshospice.com/event/death-cafe-2/
LOCATION:Arthur Easton Centre\, St Michael’s Hospice\, 25 Upper Maze Hill\, St Leonards on Sea\, East Sussex\, TN38 0LB\, United Kingdom
ATTACH;FMTTYPE=image/jpeg:https://stmichaelshospice.com/wp-content/uploads/2023/07/Death-cafe-web-banner.jpg
ORGANIZER;CN="St Michael's Hospice":MAILTO:info@stmichaelshospice.com
END:VEVENT
BEGIN:VEVENT
DTSTART;VALUE=DATE:20240403
DTEND;VALUE=DATE:20241031
DTSTAMP:20260425T150932
CREATED:20221102T100919Z
LAST-MODIFIED:20240311T083546Z
UID:10000012-1712106000-1730332799@stmichaelshospice.com
SUMMARY:Bingo
DESCRIPTION:Try your luck at one of our bingo afternoons\, hosted by Hospice Volunteer Margaret and our Hastings and St Leonards Support Group. \nOur bingo events are offered on a regular basis. All bingo events take place in the Arthur Easton Centre\, St Michael’s Hospice from 2pm – 4pm. Please see below list of current dates: \n3rd and 17th April\n1st\, 15th and 29th May\n12th and 26th June\n7th and 21st August\n18th September\n2nd\, 16th and 30th October \nOnly £3 for six books with 10 games. \nPlayers must be 18 or over.
URL:https://stmichaelshospice.com/event/bingo/
LOCATION:Arthur Easton Centre\, St Michael’s Hospice\, 25 Upper Maze Hill\, St Leonards on Sea\, East Sussex\, TN38 0LB\, United Kingdom
ATTACH;FMTTYPE=image/jpeg:https://stmichaelshospice.com/wp-content/uploads/2022/11/Bingo-Feature.jpg
ORGANIZER;CN="St Michael's Hospice Fundraising Team":MAILTO:fundraising@stmichaelshospice.com
END:VEVENT
BEGIN:VEVENT
DTSTART;TZID=Europe/London:20240224T143000
DTEND;TZID=Europe/London:20240224T160000
DTSTAMP:20260425T150932
CREATED:20230721T075756Z
LAST-MODIFIED:20240212T154327Z
UID:10000749-1708785000-1708790400@stmichaelshospice.com
SUMMARY:Death Cafe
DESCRIPTION:Join us for an afternoon of tea\, coffee\, cake and conversation. \nA Death Café is a social enterprise initiative that creates a forum where anyone can raise any issue around dying\, death and loss. The aim is to have a supportive\, kind\, open and honest conversation around this sometimes taboo topic. \nThe café is not led\, as such\, and is not a therapeutic group. Members of the Hospice’s Wellbeing team are there\, if needed\, to steer the conversation. Come along and see where the conversation takes you.\n \nDoors open at 2pm. For more information\, please contact our Spiritual Support team on 01424 445177.
URL:https://stmichaelshospice.com/event/death-cafe/
LOCATION:Arthur Easton Centre\, St Michael’s Hospice\, 25 Upper Maze Hill\, St Leonards on Sea\, East Sussex\, TN38 0LB\, United Kingdom
ATTACH;FMTTYPE=image/jpeg:https://stmichaelshospice.com/wp-content/uploads/2023/07/Death-cafe-web-banner.jpg
END:VEVENT
BEGIN:VEVENT
DTSTART;TZID=Europe/London:20231104T100000
DTEND;TZID=Europe/London:20231104T120000
DTSTAMP:20260425T150932
CREATED:20230215T132244Z
LAST-MODIFIED:20231013T113703Z
UID:10000424-1699092000-1699099200@stmichaelshospice.com
SUMMARY:Mega Sale
DESCRIPTION:Join us for our Retail Mega Sale! \nYou’ll find hundreds of bargains\, including clothes\, toys\, jigsaws\, shoes and household items\, available for crazy prices starting from as little as £1. \nThe Mega Sale will take place in the Arthur Easton Centre at St Michael’s Hospice from 10am-12pm. Entry is free. \n\nArrive early for the best deals!
URL:https://stmichaelshospice.com/event/megasale/
LOCATION:Arthur Easton Centre\, St Michael’s Hospice\, 25 Upper Maze Hill\, St Leonards on Sea\, East Sussex\, TN38 0LB\, United Kingdom
ORGANIZER;CN="St Michael's Hospice Retail":MAILTO:retail@stmichaelshospice.com
END:VEVENT
BEGIN:VEVENT
DTSTART;TZID=Europe/London:20230902T110000
DTEND;TZID=Europe/London:20230902T140000
DTSTAMP:20260425T150932
CREATED:20230609T121031Z
LAST-MODIFIED:20230807T081838Z
UID:10000745-1693652400-1693663200@stmichaelshospice.com
SUMMARY:Autumn Fair
DESCRIPTION:Join us on Saturday 2nd September\, 10am-1pm\, to welcome the new season at our Autumn Fair! \nEntry is free and you’ll be able to explore a range of stalls\, try your luck on the raffle and tombola\, peruse our puzzles and books\, sign up to our Hospice Lottery and enjoy delicious refreshments. You name it\, we have it! \nWe will also be accepting donations of food with a long shelf life for National Food Bank Day. Please drop any donations of food items to the designated donations station at the event. Thank you.
URL:https://stmichaelshospice.com/event/autumnfair/
LOCATION:Arthur Easton Centre\, St Michael’s Hospice\, 25 Upper Maze Hill\, St Leonards on Sea\, East Sussex\, TN38 0LB\, United Kingdom
ATTACH;FMTTYPE=image/jpeg:https://stmichaelshospice.com/wp-content/uploads/2023/06/Website-Event-Listing-Banners-2023-960-×-540-px-11.jpg
ORGANIZER;CN="St Michael's Hospice Fundraising Team":MAILTO:fundraising@stmichaelshospice.com
END:VEVENT
END:VCALENDAR