BEGIN:VCALENDAR
VERSION:2.0
PRODID:-//St Michael&#039;s Hospice - ECPv6.15.18//NONSGML v1.0//EN
CALSCALE:GREGORIAN
METHOD:PUBLISH
X-ORIGINAL-URL:https://stmichaelshospice.com
X-WR-CALDESC:Events for St Michael&#039;s Hospice
REFRESH-INTERVAL;VALUE=DURATION:PT1H
X-Robots-Tag:noindex
X-PUBLISHED-TTL:PT1H
BEGIN:VTIMEZONE
TZID:Europe/London
BEGIN:DAYLIGHT
TZOFFSETFROM:+0000
TZOFFSETTO:+0100
TZNAME:BST
DTSTART:20220327T010000
END:DAYLIGHT
BEGIN:STANDARD
TZOFFSETFROM:+0100
TZOFFSETTO:+0000
TZNAME:GMT
DTSTART:20221030T010000
END:STANDARD
BEGIN:DAYLIGHT
TZOFFSETFROM:+0000
TZOFFSETTO:+0100
TZNAME:BST
DTSTART:20230326T010000
END:DAYLIGHT
BEGIN:STANDARD
TZOFFSETFROM:+0100
TZOFFSETTO:+0000
TZNAME:GMT
DTSTART:20231029T010000
END:STANDARD
BEGIN:DAYLIGHT
TZOFFSETFROM:+0000
TZOFFSETTO:+0100
TZNAME:BST
DTSTART:20240331T010000
END:DAYLIGHT
BEGIN:STANDARD
TZOFFSETFROM:+0100
TZOFFSETTO:+0000
TZNAME:GMT
DTSTART:20241027T010000
END:STANDARD
BEGIN:DAYLIGHT
TZOFFSETFROM:+0000
TZOFFSETTO:+0100
TZNAME:BST
DTSTART:20250330T010000
END:DAYLIGHT
BEGIN:STANDARD
TZOFFSETFROM:+0100
TZOFFSETTO:+0000
TZNAME:GMT
DTSTART:20251026T010000
END:STANDARD
BEGIN:DAYLIGHT
TZOFFSETFROM:+0000
TZOFFSETTO:+0100
TZNAME:BST
DTSTART:20260329T010000
END:DAYLIGHT
BEGIN:STANDARD
TZOFFSETFROM:+0100
TZOFFSETTO:+0000
TZNAME:GMT
DTSTART:20261025T010000
END:STANDARD
BEGIN:DAYLIGHT
TZOFFSETFROM:+0000
TZOFFSETTO:+0100
TZNAME:BST
DTSTART:20270328T010000
END:DAYLIGHT
BEGIN:STANDARD
TZOFFSETFROM:+0100
TZOFFSETTO:+0000
TZNAME:GMT
DTSTART:20271031T010000
END:STANDARD
END:VTIMEZONE
BEGIN:VEVENT
DTSTART;TZID=Europe/London:20260418T100000
DTEND;TZID=Europe/London:20260418T120000
DTSTAMP:20260426T051310
CREATED:20260413T090813Z
LAST-MODIFIED:20260413T090813Z
UID:10002651-1776506400-1776513600@stmichaelshospice.com
SUMMARY:Mega Sale
DESCRIPTION:Don’t miss our Mega sale this Saturday!  All clothes\, shoes and accessories are just £1. We’ll also have a huge range of arts and crafts\, accessories and fabric bundles.
URL:https://stmichaelshospice.com/event/mega-sale/
LOCATION:St Michael’s Hospice Donation Centre\, Unit 1 Queensway Avenue South\, St Leonards on Sea\, East Sussex\, TN38 9AG\, United Kingdom
ATTACH;FMTTYPE=image/jpeg:https://stmichaelshospice.com/wp-content/uploads/2026/04/Mega-Sale-event.jpg
ORGANIZER;CN="St Michael's Hospice Retail":MAILTO:retail@stmichaelshospice.com
END:VEVENT
BEGIN:VEVENT
DTSTART;TZID=Europe/London:20260214T093000
DTEND;TZID=Europe/London:20260221T170000
DTSTAMP:20260426T051310
CREATED:20260205T125811Z
LAST-MODIFIED:20260205T125811Z
UID:10002645-1771061400-1771693200@stmichaelshospice.com
SUMMARY:Prom Pop Up
DESCRIPTION:Get prom-ready for less! \nJoin us at the St Michael’s Hospice Shop in Battle from 13th – 21st February for a special limited time half-term Prom Pop-Up Sale! \nWe’ve handpicked a stunning range of high quality prom dresses and sharp suits perfect for school leavers heading to prom night. \nWhether you’re after something classic\, glamorous or bold\, there’s something for everyone – without the high price tag. \nProm dresses and accessories in beautiful styles. \nSuits to help you look your best. All in great condition and supporting a wonderful cause! \n13th-21st February 2026.\nSt Michael’s Hospice Shop\, Battle High Street\, TN33 0AG. \nCome along and get ready to make your prom night unforgettable! \nCheck the Battle shop opening hours here: https://stmichaelshospice.com/our-shops-and-e-commerce/
URL:https://stmichaelshospice.com/event/prom-pop-up/
LOCATION:St Michael’s Hospice Shop – Battle\, 76 High Street\, Battle\, East Sussex\, TN33 0AG\, United Kingdom
ATTACH;FMTTYPE=image/jpeg:https://stmichaelshospice.com/wp-content/uploads/2026/02/Prom-Pop-Up.jpg
ORGANIZER;CN="St Michael's Hospice Retail":MAILTO:retail@stmichaelshospice.com
END:VEVENT
BEGIN:VEVENT
DTSTART;TZID=Europe/London:20251206T100000
DTEND;TZID=Europe/London:20251206T120000
DTSTAMP:20260426T051310
CREATED:20251111T093221Z
LAST-MODIFIED:20251112T093104Z
UID:10002276-1765015200-1765022400@stmichaelshospice.com
SUMMARY:£1 fashion sale - December 2025
DESCRIPTION:Discover hundreds of ladies\, men’s and children’s pre-loved fashion items including clothes\, bags and shoes – all at the unbeatable price of just £1 each! \nWe’ll also be offering £1 puzzles and games\, plus craft packs which include a range of lovely materials for budding crafters. \nEvery purchase at this event will help us to support and enable the community of Hastings and Rother to live well with dying\, death and loss. \nSaturday 1st November 2025\, 10am – 12pm \nLocation: St Michael’s Hospice Donation Centre\, Queensway Avenue South\, St Leonards on Sea\, TN38 9AG
URL:https://stmichaelshospice.com/event/1-fashion-sale-december/
LOCATION:St Michael’s Hospice Donation Centre\, Unit 1 Queensway Avenue South\, St Leonards on Sea\, East Sussex\, TN38 9AG\, United Kingdom
ATTACH;FMTTYPE=image/png:https://stmichaelshospice.com/wp-content/uploads/2025/07/Website-events-images-1.png
ORGANIZER;CN="St Michael's Hospice Retail":MAILTO:retail@stmichaelshospice.com
END:VEVENT
BEGIN:VEVENT
DTSTART;TZID=Europe/London:20250607T100000
DTEND;TZID=Europe/London:20250607T120000
DTSTAMP:20260426T051310
CREATED:20250505T100920Z
LAST-MODIFIED:20250507T141037Z
UID:10002265-1749290400-1749297600@stmichaelshospice.com
SUMMARY:£1 Fashion Sale June
DESCRIPTION:Discover hundreds of ladies\, men’s and children’s pre-loved fashion items including clothes\, bags and shoes – all at the unbeatable price of just £1 each! \nAfter bagging a bargain at the sale\, join us at the St Michael’s Hospice Coffee Shop where you can treat yourself to a range of hot and cold drinks\, cakes\, and other treats and refreshments. \nWe’ll also be offering £1 puzzles and games\, plus craft packs which include a range of lovely materials for budding crafters. \nEvery purchase at this event will help us to support and enable the community of Hastings and Rother to live well with dying\, death and loss. \nExcept for July and August\, our £1 sales run monthly until December.  If you can’t make it to our June event make a date in your diary for Saturday\, 6th September.
URL:https://stmichaelshospice.com/event/1-fashion-sale-june/
LOCATION:St Michael’s Hospice\, 25 Upper Maze Hill\, St Leonards on Sea\, East Sussex\, TN38 0LB\, United Kingdom
ATTACH;FMTTYPE=image/jpeg:https://stmichaelshospice.com/wp-content/uploads/2025/01/1-fashion-sale_coin-design.jpg
ORGANIZER;CN="St Michael's Hospice Retail":MAILTO:retail@stmichaelshospice.com
END:VEVENT
BEGIN:VEVENT
DTSTART;TZID=Europe/London:20250503T100000
DTEND;TZID=Europe/London:20250503T120000
DTSTAMP:20260426T051310
CREATED:20250407T083053Z
LAST-MODIFIED:20250411T134149Z
UID:10001474-1746266400-1746273600@stmichaelshospice.com
SUMMARY:£1 Fashion Sale May
DESCRIPTION:Discover hundreds of ladies\, men’s and children’s pre-loved fashion items including clothes\, bags and shoes – all at the unbeatable price of just £1 each! \nAfter bagging a bargain at the sale\, join us at the St Michael’s Hospice Coffee Shop where you can treat yourself to a range of hot and cold drinks\, cakes\, and other treats and refreshments. \nWe’ll also be offering £1 puzzles and games\, plus craft packs which include a range of lovely materials for budding crafters. \nEvery purchase at this event will help us to support and enable the community of Hastings and Rother to live well with dying\, death and loss.
URL:https://stmichaelshospice.com/event/1-fashion-sale-may/
LOCATION:St Michael’s Hospice\, 25 Upper Maze Hill\, St Leonards on Sea\, East Sussex\, TN38 0LB\, United Kingdom
ATTACH;FMTTYPE=image/jpeg:https://stmichaelshospice.com/wp-content/uploads/2025/01/1-fashion-sale_coin-design.jpg
ORGANIZER;CN="St Michael's Hospice Retail":MAILTO:retail@stmichaelshospice.com
END:VEVENT
BEGIN:VEVENT
DTSTART;TZID=Europe/London:20250425T180000
DTEND;TZID=Europe/London:20250425T200000
DTSTAMP:20260426T051310
CREATED:20250304T133405Z
LAST-MODIFIED:20250423T124926Z
UID:10001479-1745604000-1745611200@stmichaelshospice.com
SUMMARY:Frock On! (sold out)
DESCRIPTION:This event is now sold out! If you didn’t manage to secure a ticket this time\, we won’t be able to accept walk-ins at the door. But don’t worry\, keep an eye out for our future events or visit one of our shops during open hours – we can’t wait to welcome you then! \nCome join us at the St Michael’s Hospice Donation Centre for a fabulous evening of shopping and styling! \nOur event features a wide selection of wedding dresses\, suits\, occasional frocks\, shoes\, and accessories for you to browse and buy. Whether you’re looking for a chic new outfit or just want to treat yourself\, we’ve got you covered. It’s also the perfect stop for prom night glamour! \nThis is a free entry event but registration via Eventbrite is essential. Each ticket come with a complimentary glass of fizz! Please book here. \nDon’t miss out on this opportunity to refresh your wardrobe and support a great cause at the same time. See you there!
URL:https://stmichaelshospice.com/event/frock-on/
LOCATION:St Michael’s Hospice Donation Centre\, Unit 1 Queensway Avenue South\, St Leonards on Sea\, East Sussex\, TN38 9AG\, United Kingdom
ATTACH;FMTTYPE=image/jpeg:https://stmichaelshospice.com/wp-content/uploads/2025/03/Website-Event-Listing-Banners-2023-960-×-540-px.jpg
ORGANIZER;CN="St Michael's Hospice Retail":MAILTO:retail@stmichaelshospice.com
END:VEVENT
BEGIN:VEVENT
DTSTART;TZID=Europe/London:20250405T100000
DTEND;TZID=Europe/London:20250405T120000
DTSTAMP:20260426T051310
CREATED:20250310T093028Z
LAST-MODIFIED:20250318T123129Z
UID:10001473-1743847200-1743854400@stmichaelshospice.com
SUMMARY:£1 Fashion Sale
DESCRIPTION:Discover hundreds of ladies\, men’s and children’s pre-loved fashion items including clothes\, bags and shoes – all at the unbeatable price of just £1 each! \nAfter bagging a bargain at the sale\, join us at the St Michael’s Hospice Coffee Shop where you can treat yourself to a range of hot and cold drinks\, cakes\, and other treats and refreshments. \nWe’ll also be offering £1 puzzles and games\, plus craft packs which include a range of lovely materials for budding crafters. \nEvery purchase at this event will help us to support and enable the community of Hastings and Rother to live well with dying\, death and loss.
URL:https://stmichaelshospice.com/event/1-fashion-sale-april/
LOCATION:St Michael’s Hospice\, 25 Upper Maze Hill\, St Leonards on Sea\, East Sussex\, TN38 0LB\, United Kingdom
ATTACH;FMTTYPE=image/jpeg:https://stmichaelshospice.com/wp-content/uploads/2025/01/1-fashion-sale_coin-design.jpg
ORGANIZER;CN="St Michael's Hospice Retail":MAILTO:retail@stmichaelshospice.com
END:VEVENT
BEGIN:VEVENT
DTSTART;TZID=Europe/London:20250308T100000
DTEND;TZID=Europe/London:20250308T120000
DTSTAMP:20260426T051310
CREATED:20250203T093005Z
LAST-MODIFIED:20250228T121821Z
UID:10001472-1741428000-1741435200@stmichaelshospice.com
SUMMARY:£1 Fashion Sale March
DESCRIPTION:Discover hundreds of ladies\, men’s and children’s pre-loved fashion items including clothes\, bags and shoes – all at the unbeatable price of just £1 each! \nAfter bagging a bargain at the sale\, join us at the St Michael’s Hospice Coffee Shop where you can treat yourself to a range of hot and cold drinks\, cakes\, and other treats and refreshments. \nWe’ll also be offering £1 puzzles and games\, plus craft packs which include a range of lovely materials for budding crafters \nEvery purchase at this event will help us to support and enable the community of Hastings and Rother to live well with dying\, death and loss.
URL:https://stmichaelshospice.com/event/1-fashion-sale-march/
LOCATION:St Michael’s Hospice\, 25 Upper Maze Hill\, St Leonards on Sea\, East Sussex\, TN38 0LB\, United Kingdom
ATTACH;FMTTYPE=image/jpeg:https://stmichaelshospice.com/wp-content/uploads/2025/01/1-fashion-sale_coin-design.jpg
ORGANIZER;CN="St Michael's Hospice Retail":MAILTO:retail@stmichaelshospice.com
END:VEVENT
BEGIN:VEVENT
DTSTART;TZID=Europe/London:20250201T100000
DTEND;TZID=Europe/London:20250201T120000
DTSTAMP:20260426T051310
CREATED:20250116T120517Z
LAST-MODIFIED:20250123T132500Z
UID:10001471-1738404000-1738411200@stmichaelshospice.com
SUMMARY:£1 Fashion Sale
DESCRIPTION:Discover hundreds of ladies\, men’s and children’s pre-loved fashion items including clothes\, bags and shoes – all at the unbeatable price of just £1 each! \nWe’ll also be offering £1 puzzles and games\, plus craft packs which include a range of lovely materials for budding crafters. \nAfter bagging a bargain at the sale\, join us at the St Michael’s Hospice Coffee Shop where you can treat yourself to a range of hot and cold drinks\, cakes\, and other treats and refreshments. \nEvery purchase at this event will help us to support and enable the community of Hastings and Rother to live well with dying\, death and loss.
URL:https://stmichaelshospice.com/event/1-fashion-sale-2/
LOCATION:St Michael’s Hospice\, 25 Upper Maze Hill\, St Leonards on Sea\, East Sussex\, TN38 0LB\, United Kingdom
ATTACH;FMTTYPE=image/jpeg:https://stmichaelshospice.com/wp-content/uploads/2025/01/1-fashion-sale_coin-design.jpg
ORGANIZER;CN="St Michael's Hospice Retail":MAILTO:retail@stmichaelshospice.com
END:VEVENT
BEGIN:VEVENT
DTSTART;TZID=Europe/London:20241005T100000
DTEND;TZID=Europe/London:20241005T120000
DTSTAMP:20260426T051310
CREATED:20240520T142827Z
LAST-MODIFIED:20240904T111742Z
UID:10000836-1728122400-1728129600@stmichaelshospice.com
SUMMARY:£1 Fashion Sale
DESCRIPTION:Discover hundreds of ladies\, men’s and children’s pre-loved fashion items including clothes\, bags and shoes – all at the unbeatable price of just £1 each! \nWe’ll also be offering £1 craft packs\, which will include a range of lovely materials for budding crafters. \nAfter bagging a bargain at the sale\, join us at the St Michael’s Hospice Coffee Shop where you can treat yourself to a range of hot and cold drinks\, cakes\, and other treats and refreshments. \nEvery purchase at this event will help us to support and enable the community of Hastings and Rother to live well with dying\, death and loss.
URL:https://stmichaelshospice.com/event/1-fashion-sale/
LOCATION:St Michael’s Hospice\, 25 Upper Maze Hill\, St Leonards on Sea\, East Sussex\, TN38 0LB\, United Kingdom
ATTACH;FMTTYPE=image/jpeg:https://stmichaelshospice.com/wp-content/uploads/2024/05/1-Fashion-Sale.jpg
ORGANIZER;CN="St Michael's Hospice Retail":MAILTO:retail@stmichaelshospice.com
END:VEVENT
BEGIN:VEVENT
DTSTART;TZID=Europe/London:20231104T100000
DTEND;TZID=Europe/London:20231104T120000
DTSTAMP:20260426T051310
CREATED:20230215T132244Z
LAST-MODIFIED:20231013T113703Z
UID:10000424-1699092000-1699099200@stmichaelshospice.com
SUMMARY:Mega Sale
DESCRIPTION:Join us for our Retail Mega Sale! \nYou’ll find hundreds of bargains\, including clothes\, toys\, jigsaws\, shoes and household items\, available for crazy prices starting from as little as £1. \nThe Mega Sale will take place in the Arthur Easton Centre at St Michael’s Hospice from 10am-12pm. Entry is free. \n\nArrive early for the best deals!
URL:https://stmichaelshospice.com/event/megasale/
LOCATION:Arthur Easton Centre\, St Michael’s Hospice\, 25 Upper Maze Hill\, St Leonards on Sea\, East Sussex\, TN38 0LB\, United Kingdom
ORGANIZER;CN="St Michael's Hospice Retail":MAILTO:retail@stmichaelshospice.com
END:VEVENT
BEGIN:VEVENT
DTSTART;VALUE=DATE:20230917
DTEND;VALUE=DATE:20230926
DTSTAMP:20260426T051310
CREATED:20230911T103851Z
LAST-MODIFIED:20230911T104131Z
UID:10000756-1694912400-1695603599@stmichaelshospice.com
SUMMARY:£4.99 eBay Auction
DESCRIPTION:Visit our eBay page from 17th – 24th September for unbeatable prices on clothes\, books\, puzzles\, homeware\, children’s toys\, shoes\, accessories\, bric-a-brac and much more – starting from just £4.99! You have one week to grab as many bargains as possible. \n\n\n\n\nBARGAINS THIS WAY ➡️ Follow the link from Sunday 17th September – once they’re gone\, they’re gone!
URL:https://stmichaelshospice.com/event/4-99-ebay-auction/
ATTACH;FMTTYPE=image/png:https://stmichaelshospice.com/wp-content/uploads/2023/09/eBay-auction-website-image.png
ORGANIZER;CN="St Michael's Hospice Retail":MAILTO:retail@stmichaelshospice.com
END:VEVENT
BEGIN:VEVENT
DTSTART;TZID=Europe/London:20230320T100000
DTEND;TZID=Europe/London:20230323T160000
DTSTAMP:20260426T051310
CREATED:20230302T103728Z
LAST-MODIFIED:20230302T103728Z
UID:10000441-1679306400-1679587200@stmichaelshospice.com
SUMMARY:Retail Volunteer Recruitment Open Days
DESCRIPTION:Are you looking to make a difference in your local community\, want to meet new people\, or gain new skills for your CV? If so\, come along to one of our retail Volunteer Open Days. \nYou’ll have the opportunity to tour the shop\, speak to our shop managers and volunteers about what goes on day to day in charity retail\, and also find out more about the flexible volunteer roles available in the shops\, and at our Donation Centre and E-Commerce Hub. \nCome along to our shops on the following dates: \n66 Queens Road\, Hastings – Monday 20th March \n56 Devonshire Road\, Bexhill – Tuesday 21st March \nHigh Street\, Battle – Wednesday 22nd March \nCinque Ports Street\, Rye – Wednesday 22nd March \n32 Kings Road\, St Leonards – Thursday 23rd March \nFor more information about the event\, please call 01424 728728 or email retail@stmichaelshospice.com
URL:https://stmichaelshospice.com/event/retailopendays/
ATTACH;FMTTYPE=image/jpeg:https://stmichaelshospice.com/wp-content/uploads/2023/03/Website-Event-Listing-Banners-2023-960-×-540-px-6.jpg
ORGANIZER;CN="St Michael's Hospice Retail":MAILTO:retail@stmichaelshospice.com
END:VEVENT
END:VCALENDAR